BEGIN:VCALENDAR
VERSION:2.0
PRODID:-//hacksw/handcal//NONSGML v1.0//EN
BEGIN:VEVENT
DTSTART:20131019T190000
DTEND:20131020T040000
LOCATION:Lille Grand Palais \n1, Boulevard des Cités Unies \n59800 LILLE
ORGANIZER;CN=Odile JACQUESSON:MAILTO:odile.jacquesson@gmail.com
SUMMARY:RDD 2013 : Soirée de gala
DESCRIPTION:La soirée de gala de la remise des diplômes Polytech Lille se déroulera le samedi 19 octobre 2013 à Lille Grand Palais.\n \nNous vous invitons à partir de 19 heures pour ce moment d’exception : repas ...
URL:https://www.lesingenieurs.net/fr/event/rdd-2013-soiree-de-gala/2013/10/19/137
BEGIN:VALARM
TRIGGER:-P0DT1H0M0S
ACTION:DISPLAY
END:VALARM
END:VEVENT
END:VCALENDAR