BEGIN:VCALENDAR
VERSION:2.0
PRODID:-//hacksw/handcal//NONSGML v1.0//EN
BEGIN:VEVENT
DTSTART:20160421T190000
DTEND:20160421T210000
LOCATION:Polytech Lille - Bureau A-008 \nAvenue Paul Langevin \n59650 VILLENEUVE-D'ASCQ
ORGANIZER;CN=Chan-Thaï LAM:MAILTO:chan-thai.lam@wanadoo.fr
SUMMARY:Réunion du Conseil d'Administration 21/04/2016
DESCRIPTION:Le Conseil d'Administration de l'Association se réunira le jeudi 21 avril 2016.\nVoici l'ordre du jour (provisoire) - n'hésitez pas à nous contacter si vous souhaitez aborder d'autres thèmes :\n- Mise...
URL:https://www.lesingenieurs.net/fr/event/reunion-du-conseil-d-administration-21-04-2016/2016/04/21/247
BEGIN:VALARM
TRIGGER:-P0DT1H0M0S
ACTION:DISPLAY
END:VALARM
END:VEVENT
END:VCALENDAR