BEGIN:VCALENDAR
VERSION:2.0
PRODID:-//hacksw/handcal//NONSGML v1.0//EN
BEGIN:VEVENT
DTSTART:20110630T190000
DTEND:20110630T203000
LOCATION:Polytech Lille \nAmphi Migeon
ORGANIZER;CN=Odile JACQUESSON:MAILTO:odile.jacquesson@gmail.com
SUMMARY:Conférence Création d'Entreprise
DESCRIPTION:Témoignages et parcours d'ingénieurs.\nConseils et pièges à éviter pour créer son entreprise.\n Témoins\nPhilippe DUBOIS (IMA 1972) : PDG de SRD\nEric VERSTRAETE (GTGC 1986) : Gérant de...
URL:https://www.lesingenieurs.net/fr/event/conference-creation-d-entreprise/2011/06/30/44
BEGIN:VALARM
TRIGGER:-P0DT1H0M0S
ACTION:DISPLAY
END:VALARM
END:VEVENT
END:VCALENDAR