BEGIN:VCALENDAR
VERSION:2.0
PRODID:-//hacksw/handcal//NONSGML v1.0//EN
BEGIN:VEVENT
DTSTART:20260428T190000
DTEND:20260428T200000
LOCATION:https://univ-lille-fr.zoom.us/j/97898146622?pwd=KTcQcDGDuabuCccbiGPG0Syb6ecfOP.1
ORGANIZER;CN=Chan-Thaï LAM:MAILTO:chan-thai.lam@wanadoo.fr
SUMMARY:Conseil d'Administration
DESCRIPTION:Code d'accès du webinar 627979...
URL:https://www.lesingenieurs.net/fr/event/conseil-d-administration/2026/04/28/587
BEGIN:VALARM
TRIGGER:-P0DT1H0M0S
ACTION:DISPLAY
END:VALARM
END:VEVENT
END:VCALENDAR